BEGIN:VCALENDAR
VERSION:2.0
PRODID:-//hacksw/handcal//NONSGML v1.0//EN
BEGIN:VEVENT
SUMMARY:CDC VETERANS  Division1 3eme Journee
UID:4fa094b1-44a4-47ad-a461-a700bfef69e1
DTSTART:20260406T220000Z
DTEND:20260407T220000Z
LOCATION:Localisation   
CATEGORIES:Sportif
STATUS:
DESCRIPTION:<p style="text-align:center;"><span
 style="color:#1abc9c;"><span
 style="font-size:18px;"><strong>Deplacement a Petanque
 Gujanaise </strong></span></span></p>
 
 <p
 style="text-align:center;"><span style="color:#1abc9c;"><span
 style="font-size:18px;"><b>312 - PETANQUE
 GUJANAISE</b></span></span></p>
 
 <p style="text-align:center;"><span
 style="color:#1abc9c;"><span style="font-size:18px;"><b>President :
 M. GRANDCAMP Alain</b></span></span></p>
 
 <p
 style="text-align:center;"><span style="color:#1abc9c;"><span
 style="font-size:18px;">Courrier : Petanque Gujanaise - Rue de
 l’Yser - Cedex 6 - 33470 GUJAN MESTRAS</span></span></p>
 
 <p
 style="text-align:center;"><span style="font-size:18px;"><span
 style="color:#1abc9c;">Tel : 06 61 73 55 73 / </span><a
 href="mailto:lapetanquegujanaise33470@gmail.com"><span
 style="color:#1abc9c;">lapetanquegujanaise33470@gmail.com</span></a></span></p>
 
 <p
 style="text-align:center;"><span style="color:#1abc9c;"><span
 style="font-size:18px;"><strong>Terrain : Boulodrome Robert Duloubes
 - GUJAN MESTRAS</strong></span></span></p>
URL;VALUE=URI:https://marcheprime.sportsregions.fr/evenements/2026/04/07/cdc-veterans-division1-3eme-journee-2436276
END:VEVENT
END:VCALENDAR
