BEGIN:VCALENDAR
VERSION:2.0
PRODID:-//hacksw/handcal//NONSGML v1.0//EN
BEGIN:VEVENT
SUMMARY:CDC VETERANS Promotion B poule C
UID:0471fa6f-50dc-4cc6-ba76-cdc2fec43583
DTSTART:20260406T220000Z
DTEND:20260407T220000Z
LOCATION:Localisation   
CATEGORIES:Sportif
STATUS:
DESCRIPTION:<p style="text-align:center;"><strong><span
 style="color:#1abc9c;"><span style="font-size:20px;">RECEPTION A
 MARCHEPRIME </span></span></strong></p>
 
 <p
 style="text-align:center;"><span style="color:#1abc9c;"><span
 style="font-size:20px;"><b>942 - ASSOCIATION PETANQUE
 LORMONTAISE</b></span></span></p>
 
 <p> </p>
 
 <p> </p>
URL;VALUE=URI:https://marcheprime.sportsregions.fr/evenements/2026/04/07/cdc-veterans-promotion-b-poule-c-2436300
END:VEVENT
END:VCALENDAR
