BEGIN:VCALENDAR
VERSION:2.0
PRODID:-//hacksw/handcal//NONSGML v1.0//EN
BEGIN:VEVENT
SUMMARY:CDC VETERANS Promotion C poule C
UID:4277c153-0bfb-4b4c-8924-9cea2d4cdd62
DTSTART:20260406T220000Z
DTEND:20260407T220000Z
LOCATION:Localisation   
CATEGORIES:Sportif
STATUS:
DESCRIPTION:<p style="text-align:center;"><span
 style="font-size:20px;"><span
 style="color:#1abc9c;"><strong>RECEPTION  A 
 MARCHEPRIME</strong></span></span></p>
 
 <p
 style="text-align:center;"><span style="font-size:20px;"><span
 style="color:#1abc9c;"><b>321 - LA PETANQUE
 BELINETOISE</b></span></span></p>
URL;VALUE=URI:https://marcheprime.sportsregions.fr/evenements/2026/04/07/cdc-veterans-promotion-c-poule-c-2436307
END:VEVENT
END:VCALENDAR
