BEGIN:VCALENDAR
VERSION:2.0
PRODID:-//hacksw/handcal//NONSGML v1.0//EN
BEGIN:VEVENT
SUMMARY:CDC VETERANS 1 Division1
UID:c13053b8-c7d2-432c-b3f2-543aebccd9d4
DTSTART:20260428T080000Z
DTEND:20260428T160000Z
LOCATION:Localisation   
CATEGORIES:Sportif
STATUS:
DESCRIPTION:<p style="text-align:center;"><strong><span
 style="color:#1abc9c;"><span style="font-size:18px;">CHAMPIONNAT CDC
 VETERANS  1 ERE DIVISION</span></span></strong></p>
 
 <p
 style="text-align:center;"><strong><span style="color:#1abc9c;"><span
 style="font-size:18px;">RECEPTION  A 
 MARCHEPRIME</span></span></strong></p>
URL;VALUE=URI:https://marcheprime.sportsregions.fr/evenements/2026/04/28/cdc-veterans-1-division1-2444035
END:VEVENT
END:VCALENDAR
