BEGIN:VCALENDAR
VERSION:2.0
PRODID:-//hacksw/handcal//NONSGML v1.0//EN
BEGIN:VEVENT
SUMMARY:CDC VETERANS 3 Division 2 POULE C
UID:ffede2cc-fa28-4c91-a2c7-ac7d1b68a112
DTSTART:20260428T080000Z
DTEND:20260428T160000Z
LOCATION:Localisation   
CATEGORIES:Sportif
STATUS:
DESCRIPTION:<p style="text-align:center;"><span
 style="font-size:18px;"><strong>CHAMPIONNAT CDC VETERANS 2 EME
 DIVISION POULE C</strong></span></p>
 
 <p
 style="text-align:center;"><span
 style="font-size:18px;"><strong>Deplacement au  STADE BLAYAIS
 PETANQUE</strong></span></p>
 
 <p style="text-align:center;"><span
 style="font-size:18px;"><strong>President : M. CHATAIGNER
 Jacques</strong></span></p>
 
 <p style="text-align:center;"><span
 style="font-size:18px;"><strong>Terrain : Allees Marines -–
 BLAYE</strong></span></p>
 
 <p> </p>
URL;VALUE=URI:https://marcheprime.sportsregions.fr/evenements/2026/04/28/cdc-veterans-3-division-2-poule-c-2444056
END:VEVENT
END:VCALENDAR
