BEGIN:VCALENDAR
VERSION:2.0
PRODID:-//hacksw/handcal//NONSGML v1.0//EN
BEGIN:VEVENT
SUMMARY:CDC Veterans5 PromoC
UID:9aca3a21-de43-4897-8818-86945d514a2f
DTSTART:20260428T080000Z
DTEND:20260428T160000Z
LOCATION:Localisation   
CATEGORIES:Sportif
STATUS:
DESCRIPTION:<p style="text-align:center;"><strong><span
 style="font-size:18px;">CHAMPIONNAT CDC VETERANS PROMO C POULE
 C</span></strong></p>
 
 <p style="text-align:center;"><span
 style="font-size:18px;">Deplacement a</span><strong><span
 style="font-size:18px;"> CB PETANQUE GRAND
 PARC</span></strong></p>
 
 <p style="text-align:center;"><strong><span
 style="font-size:18px;">President : M. OJEDA
 Raphael</span></strong></p>
 
 <p
 style="text-align:center;"><strong><span
 style="font-size:18px;">Terrain : 48 rue Pierre Trebod -
 BORDEAUX</span></strong></p>
 
 <p> </p>
URL;VALUE=URI:https://marcheprime.sportsregions.fr/evenements/2026/04/28/cdc-veterans5-promoc-2444064
END:VEVENT
END:VCALENDAR
